BEGIN:VCALENDAR
VERSION:2.0
PRODID:-//Date iCal v3.3//NONSGML kigkonsult.se iCalcreator 2.20.2//
METHOD:PUBLISH
X-WR-CALNAME;VALUE=TEXT:Eventos Lugo
BEGIN:VTIMEZONE
TZID:Europe/Madrid
BEGIN:STANDARD
DTSTART:20141026T030000
TZOFFSETFROM:+0200
TZOFFSETTO:+0100
RDATE:20151025T030000
TZNAME:CET
END:STANDARD
BEGIN:DAYLIGHT
DTSTART:20150329T020000
TZOFFSETFROM:+0100
TZOFFSETTO:+0200
TZNAME:CEST
END:DAYLIGHT
END:VTIMEZONE
BEGIN:VEVENT
UID:calendar.50994.field_fechas_inicio_fin.0@concellodelugo.gal
DTSTAMP:20260421T213700Z
CREATED:20150518T131915Z
DESCRIPTION:Xornadas de Tapas Romanas
DTSTART;TZID=Europe/Madrid:20150522T000000
DTEND;TZID=Europe/Madrid:20150607T000000
LAST-MODIFIED:20150519T170500Z
SUMMARY:Ars Magirica
URL;TYPE=URI:https://concellodelugo.gal/gl/eventos/ars-magirica
END:VEVENT
BEGIN:VEVENT
UID:calendar.49135.field_fechas_inicio_fin.0@concellodelugo.gal
DTSTAMP:20260421T213700Z
CREATED:20150404T132742Z
DTSTART;TZID=Europe/Madrid:20150406T000000
DTEND;TZID=Europe/Madrid:20150412T000000
LAST-MODIFIED:20150408T122434Z
SUMMARY:Grastronomía con retranca
URL;TYPE=URI:https://concellodelugo.gal/gl/eventos/grastronomia-con-retranc
 a
END:VEVENT
END:VCALENDAR
