BEGIN:VCALENDAR
VERSION:2.0
PRODID:-//Date iCal v3.3//NONSGML kigkonsult.se iCalcreator 2.20.2//
METHOD:PUBLISH
X-WR-CALNAME;VALUE=TEXT:Eventos Lugo
BEGIN:VTIMEZONE
TZID:Europe/Madrid
BEGIN:STANDARD
DTSTART:20141026T030000
TZOFFSETFROM:+0200
TZOFFSETTO:+0100
RDATE:20151025T030000,20161030T030000,20171029T030000
TZNAME:CET
END:STANDARD
BEGIN:DAYLIGHT
DTSTART:20150329T020000
TZOFFSETFROM:+0100
TZOFFSETTO:+0200
RDATE:20160327T020000,20170326T020000
TZNAME:CEST
END:DAYLIGHT
END:VTIMEZONE
BEGIN:VEVENT
UID:calendar.72016.field_fechas_inicio_fin.0@concellodelugo.gal
DTSTAMP:20260421T170527Z
CREATED:20170614T100632Z
DESCRIPTION:Co motivo da celebración do Día Internacional dos Arquivos o Ar
 quivo Municipal deste Concello está a levar a cabo distintos actos para co
 nmémoralo\, entre eles programouse una charla sobre a historia da cidade d
 urante os que se levou a cabo o proxecto e construcción do Cárcere do Part
 ido así como a historia da construcción da mesma e os avatares polos  que 
 pasaron os seus muros ao longo do tempo.
DTSTART;TZID=Europe/Madrid:20170614T000000
DTEND;TZID=Europe/Madrid:20170614T000000
LAST-MODIFIED:20170614T102300Z
SUMMARY:Día Internacional dos Arquivos 2017 - Charla
URL;TYPE=URI:https://concellodelugo.gal/gl/eventos/dia-internacional-dos-ar
 quivos-2017-charla
END:VEVENT
BEGIN:VEVENT
UID:calendar.49814.field_fechas_inicio_fin.0@concellodelugo.gal
DTSTAMP:20260421T170527Z
CREATED:20150422T111758Z
DESCRIPTION:Conferencia: Instrumentos de medida de pesos no Lugo romano
DTSTART;TZID=Europe/Madrid:20150422T000000
DTEND;TZID=Europe/Madrid:20150422T000000
LAST-MODIFIED:20150422T111904Z
SUMMARY:Conferencia do Servizo Municipal de Arqueoloxía
URL;TYPE=URI:https://concellodelugo.gal/gl/eventos/conferencia-do-servizo-m
 unicipal-de-arqueoloxia
END:VEVENT
BEGIN:VEVENT
UID:calendar.48722.field_fechas_inicio_fin.0@concellodelugo.gal
DTSTAMP:20260421T170527Z
CREATED:20150330T165359Z
DESCRIPTION:Debate aberto ó público\, no que catro expertos explicarán por 
 que non se quere implantar o servizo de hemodinámica as 24 horas no HULA. 
DTSTART;TZID=Europe/Madrid:20150331T000000
DTEND;TZID=Europe/Madrid:20150331T000000
LAST-MODIFIED:20150330T172643Z
SUMMARY:Foro de debate: Hemodinámica en Lugo
URL;TYPE=URI:https://concellodelugo.gal/gl/eventos/foro-de-debate-hemodinam
 ica-en-lugo
END:VEVENT
END:VCALENDAR
