BEGIN:VCALENDAR
VERSION:2.0
PRODID:-//Date iCal v3.3//NONSGML kigkonsult.se iCalcreator 2.20.2//
METHOD:PUBLISH
X-WR-CALNAME;VALUE=TEXT:Eventos Lugo
BEGIN:VTIMEZONE
TZID:Europe/Madrid
BEGIN:STANDARD
DTSTART:20141026T030000
TZOFFSETFROM:+0200
TZOFFSETTO:+0100
RDATE:20151025T030000,20161030T030000
TZNAME:CET
END:STANDARD
BEGIN:DAYLIGHT
DTSTART:20150329T020000
TZOFFSETFROM:+0100
TZOFFSETTO:+0200
RDATE:20160327T020000
TZNAME:CEST
END:DAYLIGHT
END:VTIMEZONE
BEGIN:VEVENT
UID:calendar.60454.field_fechas_inicio_fin.0@concellodelugo.gal
DTSTAMP:20260421T213641Z
CREATED:20160513T105822Z
DTSTART;TZID=Europe/Madrid:20160517T000000
DTEND;TZID=Europe/Madrid:20160522T000000
LAST-MODIFIED:20160513T105916Z
SUMMARY:Feira do Libro de Lugo
URL;TYPE=URI:https://concellodelugo.gal/gl/eventos/feira-do-libro-de-lugo
END:VEVENT
BEGIN:VEVENT
UID:calendar.53754.field_fechas_inicio_fin.0@concellodelugo.gal
DTSTAMP:20260421T213641Z
CREATED:20151013T123719Z
DESCRIPTION:Fomento da creatividade literaria dos mozos lucenses
DTSTART;TZID=Europe/Madrid:20151120T000000
DTEND;TZID=Europe/Madrid:20151120T000000
LAST-MODIFIED:20151013T124850Z
SUMMARY:Certame de Contos e Relatos Curtos Trapero Pardo
URL;TYPE=URI:https://concellodelugo.gal/gl/eventos/certame-de-contos-e-rela
 tos-curtos-trapero-pardo
END:VEVENT
BEGIN:VEVENT
UID:calendar.51515.field_fechas_inicio_fin.0@concellodelugo.gal
DTSTAMP:20260421T213641Z
CREATED:20150608T194156Z
DTSTART;TZID=Europe/Madrid:20150611T000000
DTEND;TZID=Europe/Madrid:20150611T000000
LAST-MODIFIED:20150608T200331Z
SUMMARY:Catas literarias: María Reimóndez
URL;TYPE=URI:https://concellodelugo.gal/gl/eventos/catas-literarias-maria-r
 eimondez
END:VEVENT
BEGIN:VEVENT
UID:calendar.50740.field_fechas_inicio_fin.0@concellodelugo.gal
DTSTAMP:20260421T213641Z
CREATED:20150509T105853Z
DTSTART;TZID=Europe/Madrid:20150512T000000
DTEND;TZID=Europe/Madrid:20150517T000000
LAST-MODIFIED:20150509T111512Z
SUMMARY:33ª Feira do Libro de Lugo
URL;TYPE=URI:https://concellodelugo.gal/gl/eventos/33a-feira-do-libro-de-lu
 go
END:VEVENT
BEGIN:VEVENT
UID:calendar.50574.field_fechas_inicio_fin.0@concellodelugo.gal
DTSTAMP:20260421T213641Z
CREATED:20150501T112847Z
DESCRIPTION:Gala das Letras\, na que se fallarán os Premios AELG 2015 ás me
 llores obras do 2014 e se entregarán tamén o Premio AELG Institucións\, o 
 Premio Bos e Xenerosos\, o Premio AELG Mestres e Mestras da Memoria e o Pr
 emio AELG Escritor Galego Universal
DTSTART;TZID=Europe/Madrid:20150509T000000
DTEND;TZID=Europe/Madrid:20150509T000000
LAST-MODIFIED:20150501T120125Z
SUMMARY:Gala das Letras
URL;TYPE=URI:https://concellodelugo.gal/gl/eventos/gala-das-letras
END:VEVENT
BEGIN:VEVENT
UID:calendar.49589.field_fechas_inicio_fin.0@concellodelugo.gal
DTSTAMP:20260421T213641Z
CREATED:20150413T223340Z
DESCRIPTION:Presentación de novela no MIHL
DTSTART;TZID=Europe/Madrid:20150416T000000
DTEND;TZID=Europe/Madrid:20150416T000000
LAST-MODIFIED:20150413T223525Z
SUMMARY:Presentación da novela Las hijas del César\, de Pablo Núñez
URL;TYPE=URI:https://concellodelugo.gal/gl/eventos/presentacion-da-novela-l
 as-hijas-del-cesar-de-pablo-nunez
END:VEVENT
BEGIN:VEVENT
UID:calendar.49213.field_fechas_inicio_fin.0@concellodelugo.gal
DTSTAMP:20260421T213641Z
CREATED:20150408T093525Z
DESCRIPTION:Autor e autoras invitados: Marica Campo\, Antonio Colinas\, Olg
 a Novo
DTSTART;TZID=Europe/Madrid:20150409T000000
DTEND;TZID=Europe/Madrid:20150409T000000
LAST-MODIFIED:20150408T093834Z
SUMMARY:Cata literaria con tres poetas de Lugo
URL;TYPE=URI:https://concellodelugo.gal/gl/eventos/cata-literaria-con-tres-
 poetas-de-lugo
END:VEVENT
BEGIN:VEVENT
UID:calendar.49054.field_fechas_inicio_fin.0@concellodelugo.gal
DTSTAMP:20260421T213641Z
CREATED:20150402T174732Z
DTSTART;TZID=Europe/Madrid:20150411T000000
DTEND;TZID=Europe/Madrid:20150411T000000
LAST-MODIFIED:20150408T114356Z
SUMMARY:José Luis Cuerda & Julián Lacalle  “Tiempo después”\, a primeira no
 vela de José Luis Cuerda\, e o universo de “Amanece\, que no es poco”.
URL;TYPE=URI:https://concellodelugo.gal/gl/eventos/jose-luis-cuerda-julian-
 lacalle-tiempo-despues-primeira-novela-de-jose-luis-cuerda-e-o
END:VEVENT
BEGIN:VEVENT
UID:calendar.49240.field_fechas_inicio_fin.0@concellodelugo.gal
DTSTAMP:20260421T213641Z
CREATED:20150402T170810Z
DESCRIPTION:Aldaolado (Lucía Aldao – María Lado):  “Sempre en Ibiza” Poesía
  con retranca
DTSTART;TZID=Europe/Madrid:20150409T000000
DTEND;TZID=Europe/Madrid:20150409T000000
LAST-MODIFIED:20150408T105741Z
SUMMARY:Aldaolado: “Sempre en Ibiza”
URL;TYPE=URI:https://concellodelugo.gal/gl/eventos/aldaolado-sempre-en-ibiz
 a
END:VEVENT
BEGIN:VEVENT
UID:calendar.48334.field_fechas_inicio_fin.0@concellodelugo.gal
DTSTAMP:20260421T213641Z
CREATED:20150325T120156Z
DTSTART;TZID=Europe/Madrid:20150327T000000
DTEND;TZID=Europe/Madrid:20150327T000000
LAST-MODIFIED:20150325T122045Z
SUMMARY:Presentación do libro de relatos premiados no XVI Certame Ánxel Fol
 e
URL;TYPE=URI:https://concellodelugo.gal/gl/eventos/presentacion-do-libro-de
 -relatos-premiados-no-xvi-certame-anxel-fole
END:VEVENT
BEGIN:VEVENT
UID:calendar.47983.field_fechas_inicio_fin.0@concellodelugo.gal
DTSTAMP:20260421T213641Z
CREATED:20150311T145904Z
DESCRIPTION:Actividade: Bocata Literario | Autor invitado: Jaureguizar\, qu
 e falará principalmente do seu novo libro O veleno da risa. Un misterio pa
 ra Tintimán en Lugo. Nunha escavación arqueolóxica aparecen os planos de c
 onstrución da muralla de Lugo\, e hai que roubar o carneiro alado de Ribad
 eo.
DTSTART;TZID=Europe/Madrid:20150312T000000
DTEND;TZID=Europe/Madrid:20150312T000000
LAST-MODIFIED:20150311T160141Z
SUMMARY:Bocata Literario con Jaureguizar
URL;TYPE=URI:https://concellodelugo.gal/gl/eventos/bocata-literario-con-jau
 reguizar
END:VEVENT
BEGIN:VEVENT
UID:calendar.47980.field_fechas_inicio_fin.0@concellodelugo.gal
DTSTAMP:20260421T213641Z
CREATED:20150311T145651Z
DESCRIPTION:Actividade: Cata Literaria | Autora invitada: Yolanda Castaño. 
 Unha poeta que desenvolve experiencias que mesturan a poesía con outras li
 nguaxes creativas: arte dramática\, música\, vídeo...
DTSTART;TZID=Europe/Madrid:20150312T000000
DTEND;TZID=Europe/Madrid:20150312T000000
LAST-MODIFIED:20150311T155457Z
SUMMARY:Cata Literaria con Yolanda Castaño
URL;TYPE=URI:https://concellodelugo.gal/gl/eventos/cata-literaria-con-yolan
 da-castano
END:VEVENT
BEGIN:VEVENT
UID:calendar.47974.field_fechas_inicio_fin.0@concellodelugo.gal
DTSTAMP:20260421T213641Z
CREATED:20150311T145335Z
DESCRIPTION:Acto: Conferencia sobre As irmás Fernández de la Vega\, imparti
 da por Ánxela Bugallo\, Secretaria da Facultade de Ciencias da Educación d
 a Coruña
DTSTART;TZID=Europe/Madrid:20150311T000000
DTEND;TZID=Europe/Madrid:20150311T000000
LAST-MODIFIED:20150311T153615Z
SUMMARY:Actos polo Día Internacional da Muller
URL;TYPE=URI:https://concellodelugo.gal/gl/eventos/actos-polo-dia-internaci
 onal-da-muller
END:VEVENT
BEGIN:VEVENT
UID:calendar.47422.field_fechas_inicio_fin.0@concellodelugo.gal
DTSTAMP:20260421T213641Z
CREATED:20150226T103757Z
DESCRIPTION:Obradoiro de ilustración de contos
DTSTART;TZID=Europe/Madrid:20150228T000000
DTEND;TZID=Europe/Madrid:20150228T000000
LAST-MODIFIED:20150325T122509Z
SUMMARY:Animación á Lectura e Contacontos 2015
URL;TYPE=URI:https://concellodelugo.gal/gl/eventos/animacion-lectura-e-cont
 acontos-2015
END:VEVENT
END:VCALENDAR
