BEGIN:VCALENDAR
VERSION:2.0
PRODID:-//Date iCal v3.3//NONSGML kigkonsult.se iCalcreator 2.20.2//
METHOD:PUBLISH
X-WR-CALNAME;VALUE=TEXT:Eventos Lugo
BEGIN:VTIMEZONE
TZID:Europe/Madrid
BEGIN:STANDARD
DTSTART:20141026T030000
TZOFFSETFROM:+0200
TZOFFSETTO:+0100
RDATE:20151025T030000,20161030T030000,20171029T030000
TZNAME:CET
END:STANDARD
BEGIN:DAYLIGHT
DTSTART:20150329T020000
TZOFFSETFROM:+0100
TZOFFSETTO:+0200
RDATE:20160327T020000,20170326T020000
TZNAME:CEST
END:DAYLIGHT
END:VTIMEZONE
BEGIN:VEVENT
UID:calendar.70818.field_fechas_inicio_fin.0@concellodelugo.gal
DTSTAMP:20260421T170606Z
CREATED:20170503T110324Z
DTSTART;TZID=Europe/Madrid:20170504T000000
DTEND;TZID=Europe/Madrid:20170601T000000
LAST-MODIFIED:20170503T111009Z
SUMMARY:Festival de Cinema Euroárabe 2017
URL;TYPE=URI:https://concellodelugo.gal/gl/eventos/festival-de-cinema-euroa
 rabe-2017
END:VEVENT
BEGIN:VEVENT
UID:calendar.50562.field_fechas_inicio_fin.0@concellodelugo.gal
DTSTAMP:20260421T170606Z
CREATED:20150501T105256Z
DESCRIPTION:Ciclo de Cine Arqueolóxico
DTSTART;TZID=Europe/Madrid:20150505T000000
DTEND;TZID=Europe/Madrid:20150505T000000
LAST-MODIFIED:20150501T115114Z
SUMMARY:Proxección de 'O perfume recuperado' (Francia 2011) e 'Herculano\, 
 diario da escuridade e da luz' (Italia 2008) V.O.S.
URL;TYPE=URI:https://concellodelugo.gal/gl/eventos/proxeccion-de-o-perfume-
 recuperado-francia-2011-e-herculano-diario-da-escuridade-e-da-luz
END:VEVENT
BEGIN:VEVENT
UID:calendar.50446.field_fechas_inicio_fin.0@concellodelugo.gal
DTSTAMP:20260421T170606Z
CREATED:20150429T073813Z
DESCRIPTION:Ciclo de Cine Arqueolóxico
DTSTART;TZID=Europe/Madrid:20150428T000000
DTEND;TZID=Europe/Madrid:20150428T000000
LAST-MODIFIED:20150429T092100Z
SUMMARY:Proxección de “Arles-Rhône 3: do río ó museo”  (Francia 2013) e “O 
 Imperio Romano: lexionarios de Roma” (Francia 2004) V.O.S.
URL;TYPE=URI:https://concellodelugo.gal/gl/eventos/proxeccion-de-arles-rhon
 e-3-do-rio-o-museo-francia-2013-e-o-imperio-romano-lexionarios-de
END:VEVENT
BEGIN:VEVENT
UID:calendar.49583.field_fechas_inicio_fin.0@concellodelugo.gal
DTSTAMP:20260421T170606Z
CREATED:20150413T222916Z
DESCRIPTION:Ciclo de Cine Arqueolóxico
DTSTART;TZID=Europe/Madrid:20150414T000000
DTEND;TZID=Europe/Madrid:20150414T000000
LAST-MODIFIED:20150413T223045Z
SUMMARY:Cando os Galos perderon a cabeza (Francia\, 2011) e Tralas pegadas 
 dos Celtas (Francia\, 2003) V.O.S.
URL;TYPE=URI:https://concellodelugo.gal/gl/eventos/cando-os-galos-perderon-
 cabeza-francia-2011-e-tralas-pegadas-dos-celtas-francia-2003-vos
END:VEVENT
BEGIN:VEVENT
UID:calendar.48187.field_fechas_inicio_fin.0@concellodelugo.gal
DTSTAMP:20260421T170606Z
CREATED:20150318T124703Z
DTSTART;TZID=Europe/Madrid:20150316T000000
DTEND;TZID=Europe/Madrid:20150316T000000
LAST-MODIFIED:20150325T121725Z
SUMMARY:Ciclo de Cine Clásico
URL;TYPE=URI:https://concellodelugo.gal/gl/eventos/ciclo-de-cine-clasico-0
END:VEVENT
BEGIN:VEVENT
UID:calendar.47971.field_fechas_inicio_fin.0@concellodelugo.gal
DTSTAMP:20260421T170606Z
CREATED:20150311T144759Z
DESCRIPTION:Película: Vacaciones en Roma.
DTSTART;TZID=Europe/Madrid:20150309T000000
DTEND;TZID=Europe/Madrid:20150309T000000
LAST-MODIFIED:20150311T153126Z
SUMMARY:Ciclo de cine clásico
URL;TYPE=URI:https://concellodelugo.gal/gl/eventos/ciclo-de-cine-clasico
END:VEVENT
END:VCALENDAR
