BEGIN:VCALENDAR
VERSION:2.0
PRODID:-//Date iCal v3.3//NONSGML kigkonsult.se iCalcreator 2.20.2//
METHOD:PUBLISH
X-WR-CALNAME;VALUE=TEXT:Eventos Lugo
BEGIN:VTIMEZONE
TZID:Europe/Madrid
BEGIN:STANDARD
DTSTART:20141026T030000
TZOFFSETFROM:+0200
TZOFFSETTO:+0100
RDATE:20151025T030000
TZNAME:CET
END:STANDARD
BEGIN:DAYLIGHT
DTSTART:20150329T020000
TZOFFSETFROM:+0100
TZOFFSETTO:+0200
TZNAME:CEST
END:DAYLIGHT
END:VTIMEZONE
BEGIN:VEVENT
UID:calendar.50566.field_fechas_inicio_fin.0@concellodelugo.gal
DTSTAMP:20260422T003508Z
CREATED:20150501T111503Z
DESCRIPTION:Animación á lectura 2015
DTSTART;TZID=Europe/Madrid:20150507T000000
DTEND;TZID=Europe/Madrid:20150507T000000
LAST-MODIFIED:20150501T115520Z
SUMMARY:Forma Teatro: 'Bebecontos de Choupiña e Trasnón: contamos cos senti
 dos'
URL;TYPE=URI:https://concellodelugo.gal/gl/eventos/forma-teatro-bebecontos-
 de-choupina-e-trasnon-contamos-cos-sentidos
END:VEVENT
BEGIN:VEVENT
UID:calendar.49619.field_fechas_inicio_fin.0@concellodelugo.gal
DTSTAMP:20260422T003508Z
CREATED:20150413T225744Z
DESCRIPTION:A partir dos 6 anos | Duración: 90 minutos
DTSTART;TZID=Europe/Madrid:20150418T000000
DTEND;TZID=Europe/Madrid:20150418T000000
LAST-MODIFIED:20150413T225951Z
SUMMARY:Obradoiro de Isabel Somoza: Debuxando cos ollos de Picasso
URL;TYPE=URI:https://concellodelugo.gal/gl/eventos/obradoiro-de-isabel-somo
 za-debuxando-cos-ollos-de-picasso
END:VEVENT
BEGIN:VEVENT
UID:calendar.49210.field_fechas_inicio_fin.0@concellodelugo.gal
DTSTAMP:20260422T003508Z
CREATED:20150408T092237Z
DESCRIPTION:Animación á lectura e contacontos 2015
DTSTART;TZID=Europe/Madrid:20150409T000000
DTEND;TZID=Europe/Madrid:20150409T000000
LAST-MODIFIED:20150408T092924Z
SUMMARY:Contacontos coa Asociación Cultural Lisístrata: Contando en feminin
 o
URL;TYPE=URI:https://concellodelugo.gal/gl/eventos/contacontos-coa-asociaci
 on-cultural-lisistrata-contando-en-feminino
END:VEVENT
BEGIN:VEVENT
UID:calendar.47986.field_fechas_inicio_fin.0@concellodelugo.gal
DTSTAMP:20260422T003508Z
CREATED:20150311T150317Z
DESCRIPTION:Actividade: Obradoiro de Noemí López: Un conto en viñetas
DTSTART;TZID=Europe/Madrid:20150314T000000
DTEND;TZID=Europe/Madrid:20150314T000000
LAST-MODIFIED:20150311T161338Z
SUMMARY:Animación á lectura e contacontos
URL;TYPE=URI:https://concellodelugo.gal/gl/eventos/animacion-lectura-e-cont
 acontos-0
END:VEVENT
BEGIN:VEVENT
UID:calendar.47584.field_fechas_inicio_fin.0@concellodelugo.gal
DTSTAMP:20260422T003508Z
CREATED:20150303T170122Z
DESCRIPTION:Actividade: Contacontos con Soledad Felloza: Dándolles a volta 
 aos contos
DTSTART;TZID=Europe/Madrid:20150305T000000
DTEND;TZID=Europe/Madrid:20150305T000000
LAST-MODIFIED:20150303T170612Z
SUMMARY:Animación á lectura e contacontos
URL;TYPE=URI:https://concellodelugo.gal/gl/eventos/animacion-lectura-e-cont
 acontos
END:VEVENT
END:VCALENDAR
