BEGIN:VCALENDAR
VERSION:2.0
PRODID:-//Date iCal v3.3//NONSGML kigkonsult.se iCalcreator 2.20.2//
METHOD:PUBLISH
X-WR-CALNAME;VALUE=TEXT:Eventos Lugo
BEGIN:VTIMEZONE
TZID:Europe/Madrid
BEGIN:STANDARD
DTSTART:20131027T030000
TZOFFSETFROM:+0200
TZOFFSETTO:+0100
RDATE:20141026T030000,20151025T030000,20161030T030000
TZNAME:CET
END:STANDARD
BEGIN:DAYLIGHT
DTSTART:20140330T020000
TZOFFSETFROM:+0100
TZOFFSETTO:+0200
RDATE:20150329T020000,20160327T020000
TZNAME:CEST
END:DAYLIGHT
END:VTIMEZONE
BEGIN:VEVENT
UID:calendar.59478.field_fechas_inicio_fin.0@concellodelugo.gal
DTSTAMP:20260421T230152Z
CREATED:20160418T131452Z
DTSTART;TZID=Europe/Madrid:20160415T000000
DTEND;TZID=Europe/Madrid:20160630T000000
LAST-MODIFIED:20160419T064925Z
SUMMARY:Exposición Achegando Disparidades
URL;TYPE=URI:https://concellodelugo.gal/gl/eventos/exposicion-achegando-dis
 paridades
END:VEVENT
BEGIN:VEVENT
UID:calendar.54208.field_fechas_inicio_fin.0@concellodelugo.gal
DTSTAMP:20260421T230152Z
CREATED:20151105T111715Z
DESCRIPTION:O MIHL\, punto de encontro das obras de 47 artistas de toda Esp
 aña
DTSTART;TZID=Europe/Madrid:20151105T000000
DTEND;TZID=Europe/Madrid:20151129T000000
LAST-MODIFIED:20151105T160816Z
SUMMARY:Exposición Xuntanza
URL;TYPE=URI:https://concellodelugo.gal/gl/eventos/exposicion-xuntanza
END:VEVENT
BEGIN:VEVENT
UID:calendar.53367.field_fechas_inicio_fin.0@concellodelugo.gal
DTSTAMP:20260421T230152Z
CREATED:20150923T075117Z
DESCRIPTION:O MIHL acolle a exposición Charly 100%\, que reúne retratos de 
 Juan Carlos Martínez Valcárcel
DTSTART;TZID=Europe/Madrid:20150919T000000
DTEND;TZID=Europe/Madrid:20151028T000000
LAST-MODIFIED:20151029T135937Z
SUMMARY:Charly 100 %
URL;TYPE=URI:https://concellodelugo.gal/gl/eventos/charly-100
END:VEVENT
BEGIN:VEVENT
UID:calendar.52550.field_fechas_inicio_fin.0@concellodelugo.gal
DTSTAMP:20260421T230152Z
CREATED:20150813T120543Z
DTSTART;TZID=Europe/Madrid:20150813T000000
DTEND;TZID=Europe/Madrid:20150914T000000
LAST-MODIFIED:20150813T122853Z
SUMMARY:Omni Tempore. Exposición de pinturas
URL;TYPE=URI:https://concellodelugo.gal/gl/eventos/omni-tempore-de-juan-pab
 lo-mastrolanni
END:VEVENT
BEGIN:VEVENT
UID:calendar.49123.field_fechas_inicio_fin.0@concellodelugo.gal
DTSTAMP:20260421T230152Z
CREATED:20150404T131911Z
DESCRIPTION:Todas as persoas afectadas poden participar neste acto creativo
  de desapego.
DTSTART;TZID=Europe/Madrid:20150406T000000
DTEND;TZID=Europe/Madrid:20150413T000000
LAST-MODIFIED:20150408T122041Z
SUMMARY:Exposición: Relacións rotas
URL;TYPE=URI:https://concellodelugo.gal/gl/eventos/exposicion-relacions-rot
 as
END:VEVENT
BEGIN:VEVENT
UID:calendar.47968.field_fechas_inicio_fin.0@concellodelugo.gal
DTSTAMP:20260421T230152Z
CREATED:20150311T144520Z
DESCRIPTION:Martes a sábado\, de 11:00 a 13:30 e de 17:00 a 19:30. Domingo\
 , de 17:00 a 20:00
DTSTART;TZID=Europe/Madrid:20150307T000000
DTEND;TZID=Europe/Madrid:20150506T000000
LAST-MODIFIED:20150408T122540Z
SUMMARY:Exposición colectiva e multidisplinar 'Nosoutras'
URL;TYPE=URI:https://concellodelugo.gal/gl/eventos/exposicion-colectiva-e-m
 ultidisplinar-nosoutras
END:VEVENT
BEGIN:VEVENT
UID:calendar.47410.field_fechas_inicio_fin.0@concellodelugo.gal
DTSTAMP:20260421T230152Z
CREATED:20150226T094300Z
DESCRIPTION:Unha exposición coas obras de Carlos Montero\, un pintor lucens
 e que tamén é arquitecto\, pero que constrúe os seus cadros cos materiais 
 da máis carnal e verdadeira humanidade.
DTSTART;TZID=Europe/Madrid:20150205T000000
DTEND;TZID=Europe/Madrid:20150331T000000
LAST-MODIFIED:20150311T152326Z
SUMMARY:Exposición Nosotros de Carlos Montero
URL;TYPE=URI:https://concellodelugo.gal/gl/eventos/exposicion-nosotros-de-c
 arlos-montero
END:VEVENT
BEGIN:VEVENT
UID:calendar.47407.field_fechas_inicio_fin.0@concellodelugo.gal
DTSTAMP:20260421T230152Z
CREATED:20150226T093650Z
DESCRIPTION:Despois da súa estadía no MIHL\, esta exposición instálase na e
 ntrada do Auditorio Municipal Gustavo Freire\, onde a poderán ver as perso
 as que asistan aos espectáculos. Trátase da exposición Visións de Lugo 200
 1-2014 que está composta por 40 cadros premiados no certame de Pintura Ráp
 ida ao Aire Libre de Lugo.
DTSTART;TZID=Europe/Madrid:20150203T000000
DTEND;TZID=Europe/Madrid:20150331T000000
LAST-MODIFIED:20150311T152221Z
SUMMARY:Exposición Visións de Lugo 2001-2014
URL;TYPE=URI:https://concellodelugo.gal/gl/eventos/exposicion-visions-de-lu
 go-2001-2014
END:VEVENT
BEGIN:VEVENT
UID:calendar.47401.field_fechas_inicio_fin.0@concellodelugo.gal
DTSTAMP:20260421T230152Z
CREATED:20150226T092328Z
DESCRIPTION:Trátase dunha exposición de postais de todo o mundo adicadas ex
 clusivamente a mulleres.
DTSTART;TZID=Europe/Madrid:20141222T000000
DTEND;TZID=Europe/Madrid:20150228T000000
LAST-MODIFIED:20150226T154510Z
SUMMARY:Exposición About Women. Proxecto Internacional de Arte Postal sobre
  a Muller
URL;TYPE=URI:https://concellodelugo.gal/gl/eventos/exposicion-about-women-p
 roxecto-internacional-de-arte-postal-sobre-muller-0
END:VEVENT
BEGIN:VEVENT
UID:calendar.7604.field_fechas_inicio_fin.0@concellodelugo.gal
DTSTAMP:20260421T230152Z
CREATED:20150128T135556Z
DTSTART;TZID=Europe/Madrid:20141126T000000
DTEND;TZID=Europe/Madrid:20150131T000000
LAST-MODIFIED:20150128T160506Z
SUMMARY:Exposición do XX Maratón Fotográfico do Campus
URL;TYPE=URI:https://concellodelugo.gal/gl/eventos/exposicion-do-xx-maraton
 -fotografico-do-campus
END:VEVENT
BEGIN:VEVENT
UID:calendar.7602.field_fechas_inicio_fin.0@concellodelugo.gal
DTSTAMP:20260421T230152Z
CREATED:20150128T135435Z
DTSTART;TZID=Europe/Madrid:20141222T000000
DTEND;TZID=Europe/Madrid:20150131T000000
LAST-MODIFIED:20150128T160237Z
SUMMARY:Exposición About Women. Proxecto Internacional de Arte Postal sobre
  a Muller
URL;TYPE=URI:https://concellodelugo.gal/gl/eventos/exposicion-about-women-p
 roxecto-internacional-de-arte-postal-sobre-muller
END:VEVENT
BEGIN:VEVENT
UID:calendar.7600.field_fechas_inicio_fin.0@concellodelugo.gal
DTSTAMP:20260421T230152Z
CREATED:20150128T135333Z
DTSTART;TZID=Europe/Madrid:20150107T000000
DTEND;TZID=Europe/Madrid:20150131T000000
LAST-MODIFIED:20150128T155922Z
SUMMARY:Exposición Visións de Lugo 2001-2014. Cadros Premiados no Certame d
 e Pintura Rápida ao Aire Libre Cidade de Lugo
URL;TYPE=URI:https://concellodelugo.gal/gl/eventos/exposicion-visions-de-lu
 go-2001-2014-cadros-premiados-no-certame-de-pintura-rapida-ao-aire
END:VEVENT
BEGIN:VEVENT
UID:calendar.513.field_fechas_inicio_fin.0@concellodelugo.gal
DTSTAMP:20260421T230152Z
CREATED:20140313T162518Z
DESCRIPTION:Dende o 6 de febreiro de 2014 e ata o 6 de abril de 2014 pódese
  visitar no Museo Interactivo da Historia de Lugo (MIHL) a exposición artí
 stica multidisciplinar 8MIHL de martes a sábado de 16:30 a 20:30 horas
DTSTART;TZID=Europe/Madrid:20140206T000000
DTEND;TZID=Europe/Madrid:20140406T000000
LAST-MODIFIED:20150113T161725Z
SUMMARY:Exposición artística multidisciplinar 8MIHL
URL;TYPE=URI:https://concellodelugo.gal/gl/eventos/exposicion-artistica-mul
 tidisciplinar-8mihl
END:VEVENT
END:VCALENDAR
