BEGIN:VCALENDAR
VERSION:2.0
PRODID:-//Date iCal v3.3//NONSGML kigkonsult.se iCalcreator 2.20.2//
METHOD:PUBLISH
X-WR-CALNAME;VALUE=TEXT:Eventos Lugo
BEGIN:VTIMEZONE
TZID:Europe/Madrid
BEGIN:STANDARD
DTSTART:20141026T030000
TZOFFSETFROM:+0200
TZOFFSETTO:+0100
RDATE:20151025T030000,20161030T030000,20171029T030000
TZNAME:CET
END:STANDARD
BEGIN:DAYLIGHT
DTSTART:20150329T020000
TZOFFSETFROM:+0100
TZOFFSETTO:+0200
RDATE:20160327T020000,20170326T020000
TZNAME:CEST
END:DAYLIGHT
END:VTIMEZONE
BEGIN:VEVENT
UID:calendar.71194.field_fechas_inicio_fin.0@concellodelugo.gal
DTSTAMP:20260421T213721Z
CREATED:20170516T114238Z
DTSTART;TZID=Europe/Madrid:20170524T000000
DTEND;TZID=Europe/Madrid:20170605T000000
LAST-MODIFIED:20170516T114749Z
SUMMARY:XLV Semana de Música do Corpus
URL;TYPE=URI:https://concellodelugo.gal/gl/eventos/xlv-semana-de-musica-do-
 corpus
END:VEVENT
BEGIN:VEVENT
UID:calendar.70192.field_fechas_inicio_fin.0@concellodelugo.gal
DTSTAMP:20260421T213721Z
CREATED:20170405T081222Z
DESCRIPTION:Novo achegamento aos escolares ao mundo da música cunha edición
  máis do ciclo de concertos didácticos
DTSTART;TZID=Europe/Madrid:20170404T000000
DTEND;TZID=Europe/Madrid:20170615T000000
LAST-MODIFIED:20170405T082043Z
SUMMARY:Concertos didácticos 2017
URL;TYPE=URI:https://concellodelugo.gal/gl/eventos/concertos-didacticos-201
 7
END:VEVENT
BEGIN:VEVENT
UID:calendar.70012.field_fechas_inicio_fin.0@concellodelugo.gal
DTSTAMP:20260421T213721Z
CREATED:20170329T084905Z
DESCRIPTION:O Ciclo de Música Contemporánea MIHL Sons-XXI celebra cinco ano
 s enxalzando a creación musical europea
DTSTART;TZID=Europe/Madrid:20170404T000000
DTEND;TZID=Europe/Madrid:20170502T000000
LAST-MODIFIED:20170329T090217Z
SUMMARY:V Ciclo MIHL Sons-XXI
URL;TYPE=URI:https://concellodelugo.gal/gl/eventos/v-ciclo-mihl-sons-xxi
END:VEVENT
BEGIN:VEVENT
UID:calendar.65990.field_fechas_inicio_fin.0@concellodelugo.gal
DTSTAMP:20260421T213721Z
CREATED:20161111T095535Z
DTSTART;TZID=Europe/Madrid:20161111T000000
DTEND;TZID=Europe/Madrid:20161120T000000
LAST-MODIFIED:20161111T095610Z
SUMMARY:XXVI Festival de Jazz
URL;TYPE=URI:https://concellodelugo.gal/gl/eventos/xxvi-festival-de-jazz
END:VEVENT
BEGIN:VEVENT
UID:calendar.64926.field_fechas_inicio_fin.0@concellodelugo.gal
DTSTAMP:20260421T213721Z
CREATED:20161014T112053Z
DESCRIPTION:Programación dos Concertos da temporada 2016-2017 da Sociedad F
 ilarmónica de Lugo.
DTSTART;TZID=Europe/Madrid:20161028T000000
DTEND;TZID=Europe/Madrid:20170512T000000
LAST-MODIFIED:20161014T112544Z
SUMMARY:Concertos Sociedad Filarmónica de Lugo 2016-2017
URL;TYPE=URI:https://concellodelugo.gal/gl/eventos/concertos-sociedad-filar
 monica-de-lugo-2016-2017
END:VEVENT
BEGIN:VEVENT
UID:calendar.60466.field_fechas_inicio_fin.0@concellodelugo.gal
DTSTAMP:20260421T213721Z
CREATED:20160513T110435Z
DTSTART;TZID=Europe/Madrid:20160514T000000
DTEND;TZID=Europe/Madrid:20160611T000000
LAST-MODIFIED:20160513T110519Z
SUMMARY:XLIV Semana de Música do Corpus
URL;TYPE=URI:https://concellodelugo.gal/gl/eventos/xliv-semana-de-musica-do
 -corpus
END:VEVENT
BEGIN:VEVENT
UID:calendar.58996.field_fechas_inicio_fin.0@concellodelugo.gal
DTSTAMP:20260421T213721Z
CREATED:20160331T150842Z
DTSTART;TZID=Europe/Madrid:20160403T000000
DTEND;TZID=Europe/Madrid:20160403T000000
LAST-MODIFIED:20160401T065104Z
SUMMARY:Concerto A noite do gospel
URL;TYPE=URI:https://concellodelugo.gal/gl/eventos/concerto-noite-do-gospel
END:VEVENT
BEGIN:VEVENT
UID:calendar.58930.field_fechas_inicio_fin.0@concellodelugo.gal
DTSTAMP:20260421T213721Z
CREATED:20160330T173929Z
DTSTART;TZID=Europe/Madrid:20160405T000000
DTEND;TZID=Europe/Madrid:20160426T000000
LAST-MODIFIED:20160412T115321Z
SUMMARY:IV Ciclo MIHLSons-XXI
URL;TYPE=URI:https://concellodelugo.gal/gl/eventos/iv-ciclo-mihlsons-xxi
END:VEVENT
BEGIN:VEVENT
UID:calendar.54791.field_fechas_inicio_fin.0@concellodelugo.gal
DTSTAMP:20260421T213721Z
CREATED:20151124T071954Z
DTSTART;TZID=Europe/Madrid:20151126T000000
DTEND;TZID=Europe/Madrid:20151126T000000
LAST-MODIFIED:20151124T072348Z
SUMMARY:Músicas a carón da Mosqueira
URL;TYPE=URI:https://concellodelugo.gal/gl/eventos/musicas-caron-da-mosquei
 ra-0
END:VEVENT
BEGIN:VEVENT
UID:calendar.54305.field_fechas_inicio_fin.0@concellodelugo.gal
DTSTAMP:20260421T213721Z
CREATED:20151106T132720Z
DTSTART;TZID=Europe/Madrid:20151106T000000
DTEND;TZID=Europe/Madrid:20151106T000000
LAST-MODIFIED:20151106T132944Z
SUMMARY:Concerto da Filarmónica de Lugo
URL;TYPE=URI:https://concellodelugo.gal/gl/eventos/concerto-da-filarmonica-
 de-luog
END:VEVENT
BEGIN:VEVENT
UID:calendar.52502.field_fechas_inicio_fin.0@concellodelugo.gal
DTSTAMP:20260421T213721Z
CREATED:20150812T125349Z
DESCRIPTION:Música nas prazas e rúas da cidade
DTSTART;TZID=Europe/Madrid:20150814T000000
DTEND;TZID=Europe/Madrid:20151003T000000
LAST-MODIFIED:20170505T121129Z
SUMMARY:Músicas ao teu carón
URL;TYPE=URI:https://concellodelugo.gal/gl/eventos/musicas-ao-teu-caron
END:VEVENT
BEGIN:VEVENT
UID:calendar.51752.field_fechas_inicio_fin.0@concellodelugo.gal
DTSTAMP:20260421T213721Z
CREATED:20150622T160754Z
DESCRIPTION:Seráns Culturais
DTSTART;TZID=Europe/Madrid:20150625T000000
DTEND;TZID=Europe/Madrid:20150625T000000
LAST-MODIFIED:20150622T160937Z
SUMMARY:Ataque Escampe en concerto
URL;TYPE=URI:https://concellodelugo.gal/gl/eventos/ataque-escampe-en-concer
 to
END:VEVENT
BEGIN:VEVENT
UID:calendar.51737.field_fechas_inicio_fin.0@concellodelugo.gal
DTSTAMP:20260421T213721Z
CREATED:20150622T155318Z
DTSTART;TZID=Europe/Madrid:20150625T000000
DTEND;TZID=Europe/Madrid:20150625T000000
LAST-MODIFIED:20150622T161117Z
SUMMARY:Escola Municipal de Música: Festival fin de curso
URL;TYPE=URI:https://concellodelugo.gal/gl/eventos/escola-municipal-de-musi
 ca-festival-fin-de-curso
END:VEVENT
BEGIN:VEVENT
UID:calendar.51521.field_fechas_inicio_fin.0@concellodelugo.gal
DTSTAMP:20260421T213721Z
CREATED:20150608T194744Z
DESCRIPTION:XLIII Festival de Música Cidade de Lugo - Semana de Música do C
 orpus
DTSTART;TZID=Europe/Madrid:20150612T000000
DTEND;TZID=Europe/Madrid:20150612T000000
LAST-MODIFIED:20150608T195845Z
SUMMARY:Stefan Kagl (Alemaña)\, órgano / O sacrum convivium
URL;TYPE=URI:https://concellodelugo.gal/gl/eventos/stefan-kagl-alemana-orga
 no-o-sacrum-convivium
END:VEVENT
BEGIN:VEVENT
UID:calendar.51518.field_fechas_inicio_fin.0@concellodelugo.gal
DTSTAMP:20260421T213721Z
CREATED:20150608T194538Z
DESCRIPTION:XLIII Festival de Música Cidade de Lugo - Semana de Música do C
 orpus
DTSTART;TZID=Europe/Madrid:20150611T000000
DTEND;TZID=Europe/Madrid:20150611T000000
LAST-MODIFIED:20150608T195741Z
SUMMARY:Giulio Mercati (Italia)\, órgano positivo e dirección\; Lidia Baste
 rretxea Vila (España)\, soprano\; Cuarteto Cadencia de Lugo / Pange lingua
URL;TYPE=URI:https://concellodelugo.gal/gl/eventos/giulio-mercati-italia-or
 gano-positivo-e-direccion-lidia-basterretxea-vila-espana-soprano
END:VEVENT
BEGIN:VEVENT
UID:calendar.51512.field_fechas_inicio_fin.0@concellodelugo.gal
DTSTAMP:20260421T213721Z
CREATED:20150608T193741Z
DESCRIPTION:XLIII Festival de Música Cidade de Lugo - Semana de Música do C
 orpus
DTSTART;TZID=Europe/Madrid:20150610T000000
DTEND;TZID=Europe/Madrid:20150610T000000
LAST-MODIFIED:20150608T195645Z
SUMMARY:David Grimal\, violín e dirección\; Orquestra Sinfónica Gaos / Beet
 hoven por Grimal
URL;TYPE=URI:https://concellodelugo.gal/gl/eventos/david-grimal-violin-e-di
 reccion-orquestra-sinfonica-gaos-beethoven-por-grimal
END:VEVENT
BEGIN:VEVENT
UID:calendar.51509.field_fechas_inicio_fin.0@concellodelugo.gal
DTSTAMP:20260421T213721Z
CREATED:20150608T193448Z
DESCRIPTION:XLIII Festival de Música Cidade de Lugo - Semana de Música do C
 orpus
DTSTART;TZID=Europe/Madrid:20150608T000000
DTEND;TZID=Europe/Madrid:20150608T000000
LAST-MODIFIED:20150608T200459Z
SUMMARY:Stanislav Surin (Eslovaquia)\, órgano / Lauda Sion Salvatorem
URL;TYPE=URI:https://concellodelugo.gal/gl/eventos/ii-festival-internaciona
 l-de-organo-do-corpus-christi-de-lugo-0
END:VEVENT
BEGIN:VEVENT
UID:calendar.51392.field_fechas_inicio_fin.0@concellodelugo.gal
DTSTAMP:20260421T213721Z
CREATED:20150604T084441Z
DESCRIPTION:XLIII Festival de Música Cidade de Lugo - Semana de Música do C
 orpus
DTSTART;TZID=Europe/Madrid:20150605T000000
DTEND;TZID=Europe/Madrid:20150605T000000
LAST-MODIFIED:20150604T095040Z
SUMMARY:II Festival Internacional de Órgano do Corpus Christi de Lugo
URL;TYPE=URI:https://concellodelugo.gal/gl/eventos/ii-festival-internaciona
 l-de-organo-do-corpus-christi-de-lugo
END:VEVENT
BEGIN:VEVENT
UID:calendar.51391.field_fechas_inicio_fin.0@concellodelugo.gal
DTSTAMP:20260421T213721Z
CREATED:20150604T083326Z
DESCRIPTION:Lubicán 2015
DTSTART;TZID=Europe/Madrid:20150604T000000
DTEND;TZID=Europe/Madrid:20150604T000000
LAST-MODIFIED:20150604T094839Z
SUMMARY:Puntada sen fío presenta 'A lúa prendeu a luz'
URL;TYPE=URI:https://concellodelugo.gal/gl/eventos/puntada-sen-fio-presenta
 -lua-prendeu-luz
END:VEVENT
BEGIN:VEVENT
UID:calendar.50776.field_fechas_inicio_fin.0@concellodelugo.gal
DTSTAMP:20260421T213721Z
CREATED:20150511T130531Z
DESCRIPTION:Músicas a carón da Mosqueira 2015
DTSTART;TZID=Europe/Madrid:20150512T000000
DTEND;TZID=Europe/Madrid:20150512T000000
LAST-MODIFIED:20150511T130747Z
SUMMARY:Grupo de cámara mixto vento-corda\, Lucus Ensemble
URL;TYPE=URI:https://concellodelugo.gal/gl/eventos/grupo-de-camara-mixto-ve
 nto-corda-lucus-ensemble
END:VEVENT
BEGIN:VEVENT
UID:calendar.50569.field_fechas_inicio_fin.0@concellodelugo.gal
DTSTAMP:20260421T213721Z
CREATED:20150501T112140Z
DESCRIPTION:7Sons Creativos: Arte Sonora e Electroacústica
DTSTART;TZID=Europe/Madrid:20150507T000000
DTEND;TZID=Europe/Madrid:20150507T000000
LAST-MODIFIED:20150501T115658Z
SUMMARY:Carlos Suárez: ARS POÉTICA. Electroacústica e obxectos preparados
URL;TYPE=URI:https://concellodelugo.gal/gl/eventos/carlos-suarez-ars-poetic
 a-electroacustica-e-obxectos-preparados
END:VEVENT
BEGIN:VEVENT
UID:calendar.50563.field_fechas_inicio_fin.0@concellodelugo.gal
DTSTAMP:20260421T213721Z
CREATED:20150501T111118Z
DESCRIPTION:7Sons Creativos: Arte Sonora e Electroacústica
DTSTART;TZID=Europe/Madrid:20150506T000000
DTEND;TZID=Europe/Madrid:20150506T000000
LAST-MODIFIED:20150501T115247Z
SUMMARY:Grupo de Creación Sonora da USC (GCSUS): Música experimental para v
 oz\, percusión e electrónica
URL;TYPE=URI:https://concellodelugo.gal/gl/eventos/grupo-de-creacion-sonora
 -da-usc-gcsus-musica-experimental-para-voz-percusion-e-electronica
END:VEVENT
BEGIN:VEVENT
UID:calendar.50559.field_fechas_inicio_fin.0@concellodelugo.gal
DTSTAMP:20260421T213721Z
CREATED:20150501T105027Z
DESCRIPTION:Músicas a carón da Mosqueira 2015
DTSTART;TZID=Europe/Madrid:20150505T000000
DTEND;TZID=Europe/Madrid:20150505T000000
LAST-MODIFIED:20150501T114904Z
SUMMARY:Pablo Menéndez: Concerto de guitarra
URL;TYPE=URI:https://concellodelugo.gal/gl/eventos/pablo-menendez-concerto-
 de-guitarra
END:VEVENT
BEGIN:VEVENT
UID:calendar.50556.field_fechas_inicio_fin.0@concellodelugo.gal
DTSTAMP:20260421T213721Z
CREATED:20150501T104616Z
DESCRIPTION:Músicas a carón da Mosqueira 2015
DTSTART;TZID=Europe/Madrid:20150504T000000
DTEND;TZID=Europe/Madrid:20150504T000000
LAST-MODIFIED:20150501T114605Z
SUMMARY:Orquestra do Espazo de Cámara da USC: Un paseo pola música
URL;TYPE=URI:https://concellodelugo.gal/gl/eventos/orquestra-do-espazo-de-c
 amara-da-usc-un-paseo-pola-musica
END:VEVENT
BEGIN:VEVENT
UID:calendar.50452.field_fechas_inicio_fin.0@concellodelugo.gal
DTSTAMP:20260421T213721Z
CREATED:20150429T084721Z
DESCRIPTION:Lubicán 2015 (Lugo Cultural)
DTSTART;TZID=Europe/Madrid:20150429T000000
DTEND;TZID=Europe/Madrid:20150429T000000
LAST-MODIFIED:20150429T091445Z
SUMMARY:Os d’Abaixo presentan 'Ao vivo en Lorient'
URL;TYPE=URI:https://concellodelugo.gal/gl/eventos/os-dabaixo-presentan-ao-
 vivo-en-lorient
END:VEVENT
BEGIN:VEVENT
UID:calendar.50443.field_fechas_inicio_fin.0@concellodelugo.gal
DTSTAMP:20260421T213721Z
CREATED:20150429T073542Z
DESCRIPTION:III Ciclo de Música Contemporánea de Lugo - MIHL Sons XXI
DTSTART;TZID=Europe/Madrid:20150428T000000
DTEND;TZID=Europe/Madrid:20150428T000000
LAST-MODIFIED:20150429T090633Z
SUMMARY:A percusión hoxe\, de Diego Ventoso Fernández (percusión)
URL;TYPE=URI:https://concellodelugo.gal/gl/eventos/percusion-hoxe-de-diego-
 ventoso-fernandez-percusion
END:VEVENT
BEGIN:VEVENT
UID:calendar.49834.field_fechas_inicio_fin.0@concellodelugo.gal
DTSTAMP:20260421T213721Z
CREATED:20150422T121353Z
DESCRIPTION:Inauguración da exposición fotográfica Resonancias en movemento
 \, do alumnado de fotografía da Escola de Arte e Superior de Deseño Ramón 
 Falcón (profesor\, Xan Seoane)
DTSTART;TZID=Europe/Madrid:20150424T000000
DTEND;TZID=Europe/Madrid:20150424T000000
LAST-MODIFIED:20150422T122442Z
SUMMARY:III Ciclo de Música Contemporánea de Lugo - MIHL Sons XXI
URL;TYPE=URI:https://concellodelugo.gal/gl/eventos/iii-ciclo-de-musica-cont
 emporanea-de-lugo-mihl-sons-xxi-0
END:VEVENT
BEGIN:VEVENT
UID:calendar.49811.field_fechas_inicio_fin.0@concellodelugo.gal
DTSTAMP:20260421T213721Z
CREATED:20150422T102607Z
DESCRIPTION:Dúo de violíns e piano. Julen Zelaia\, violín\; Laura Delgado\,
  violín e Anna Mirakyan\, piano
DTSTART;TZID=Europe/Madrid:20150421T000000
DTEND;TZID=Europe/Madrid:20150421T000000
LAST-MODIFIED:20150422T104620Z
SUMMARY:Músicas a carón da Mosqueira 2015
URL;TYPE=URI:https://concellodelugo.gal/gl/eventos/musicas-caron-da-mosquei
 ra-2015
END:VEVENT
BEGIN:VEVENT
UID:calendar.49607.field_fechas_inicio_fin.0@concellodelugo.gal
DTSTAMP:20260421T213721Z
CREATED:20150413T224757Z
DESCRIPTION:III Ciclo de Música Contemporánea de Lugo - MIHL Sons XXI
DTSTART;TZID=Europe/Madrid:20150417T000000
DTEND;TZID=Europe/Madrid:20150417T000000
LAST-MODIFIED:20150413T224935Z
SUMMARY:Vertixe Sonora Ensemble: Utopía sonora
URL;TYPE=URI:https://concellodelugo.gal/gl/eventos/vertixe-sonora-ensemble-
 utopia-sonora
END:VEVENT
BEGIN:VEVENT
UID:calendar.49577.field_fechas_inicio_fin.0@concellodelugo.gal
DTSTAMP:20260421T213721Z
CREATED:20150413T222242Z
DESCRIPTION:III Ciclo de Música Contemporánea de Lugo - MIHL Sons XXI
DTSTART;TZID=Europe/Madrid:20150414T000000
DTEND;TZID=Europe/Madrid:20150414T000000
LAST-MODIFIED:20150413T222535Z
SUMMARY:Raquel González García: Encontros danza e música contemporánea. Per
 spectivas dende a creación coreográfica
URL;TYPE=URI:https://concellodelugo.gal/gl/eventos/raquel-gonzalez-garcia-e
 ncontros-danza-e-musica-contemporanea-perspectivas-dende-creacion
END:VEVENT
BEGIN:VEVENT
UID:calendar.49573.field_fechas_inicio_fin.0@concellodelugo.gal
DTSTAMP:20260421T213721Z
CREATED:20150413T221429Z
DESCRIPTION:III Ciclo de Música Contemporánea de Lugo - MIHL Sons XXI
DTSTART;TZID=Europe/Madrid:20150414T000000
DTEND;TZID=Europe/Madrid:20150414T000000
LAST-MODIFIED:20150413T221618Z
SUMMARY:Xoán-Xil López:  Resonancias en movemento
URL;TYPE=URI:https://concellodelugo.gal/gl/eventos/xoan-xil-lopez-resonanci
 as-en-movemento
END:VEVENT
BEGIN:VEVENT
UID:calendar.49225.field_fechas_inicio_fin.0@concellodelugo.gal
DTSTAMP:20260421T213721Z
CREATED:20150408T094613Z
DESCRIPTION:Festival Donas do Mundo
DTSTART;TZID=Europe/Madrid:20150410T000000
DTEND;TZID=Europe/Madrid:20150410T000000
LAST-MODIFIED:20150408T094725Z
SUMMARY:Aurora & The Betrayers
URL;TYPE=URI:https://concellodelugo.gal/gl/eventos/aurora-betrayers
END:VEVENT
BEGIN:VEVENT
UID:calendar.49219.field_fechas_inicio_fin.0@concellodelugo.gal
DTSTAMP:20260421T213721Z
CREATED:20150408T094054Z
DESCRIPTION:Lubicán 2015
DTSTART;TZID=Europe/Madrid:20150409T000000
DTEND;TZID=Europe/Madrid:20150409T000000
LAST-MODIFIED:20150408T094236Z
SUMMARY:Guadi Galego presenta 'Lúas de outubro e agosto'
URL;TYPE=URI:https://concellodelugo.gal/gl/eventos/guadi-galego-presenta-lu
 as-de-outubro-e-agosto
END:VEVENT
BEGIN:VEVENT
UID:calendar.49105.field_fechas_inicio_fin.0@concellodelugo.gal
DTSTAMP:20260421T213721Z
CREATED:20150403T223639Z
DESCRIPTION:Presentarán o seu novo disco\, 'Tardes de merienda'
DTSTART;TZID=Europe/Madrid:20150412T000000
DTEND;TZID=Europe/Madrid:20150412T000000
LAST-MODIFIED:20150408T115932Z
SUMMARY:Los Gandules: 'Tardes de merienda'
URL;TYPE=URI:https://concellodelugo.gal/gl/eventos/los-gandules-presentaran
 -o-seu-novo-disco-tardes-de-merienda
END:VEVENT
BEGIN:VEVENT
UID:calendar.49070.field_fechas_inicio_fin.0@concellodelugo.gal
DTSTAMP:20260421T213721Z
CREATED:20150402T180804Z
DESCRIPTION:Presentará o seu último disco\, “Quince sombras de Chivi'\, e a
  súa nova canción “Con retranca”\, dedicada ao Festival
DTSTART;TZID=Europe/Madrid:20150411T000000
DTEND;TZID=Europe/Madrid:20150411T000000
LAST-MODIFIED:20150408T111553Z
SUMMARY:El Chivi en concerto
URL;TYPE=URI:https://concellodelugo.gal/gl/eventos/el-chivi-en-concerto-pre
 sentara-o-seu-ultimo-disco-quince-sombras-de-chivi-e-sua-nova
END:VEVENT
BEGIN:VEVENT
UID:calendar.49037.field_fechas_inicio_fin.0@concellodelugo.gal
DTSTAMP:20260421T213721Z
CREATED:20150402T172353Z
DESCRIPTION:Impresenteibols. Actuación musical.
DTSTART;TZID=Europe/Madrid:20150410T000000
DTEND;TZID=Europe/Madrid:20150410T000000
LAST-MODIFIED:20150408T110919Z
SUMMARY:Conferencierto: 'No sólo de sexo vive el hombre\, si lo sabré yo'
URL;TYPE=URI:https://concellodelugo.gal/gl/eventos/impresenteibols-actuacio
 n-musical-conferencierto-no-solo-de-sexo-vive-el-hombre-si-lo-sabre
END:VEVENT
BEGIN:VEVENT
UID:calendar.48739.field_fechas_inicio_fin.0@concellodelugo.gal
DTSTAMP:20260421T213721Z
CREATED:20150330T175118Z
DTSTART;TZID=Europe/Madrid:20150404T000000
DTEND;TZID=Europe/Madrid:20150404T000000
LAST-MODIFIED:20150330T175118Z
SUMMARY:Festival Solidario no Auditorio Municipal
URL;TYPE=URI:https://concellodelugo.gal/gl/eventos/festival-solidario-no-au
 ditorio-municipal
END:VEVENT
BEGIN:VEVENT
UID:calendar.48190.field_fechas_inicio_fin.0@concellodelugo.gal
DTSTAMP:20260421T213721Z
CREATED:20150318T125325Z
DTSTART;TZID=Europe/Madrid:20150318T000000
DTEND;TZID=Europe/Madrid:20150318T000000
LAST-MODIFIED:20150325T122536Z
SUMMARY:III Ciclo de Música Contemporánea de Lugo - MIHL Sons XXI
URL;TYPE=URI:https://concellodelugo.gal/gl/eventos/iii-ciclo-de-musica-cont
 emporanea-de-lugo-mihl-sons-xxi
END:VEVENT
BEGIN:VEVENT
UID:calendar.47977.field_fechas_inicio_fin.0@concellodelugo.gal
DTSTAMP:20260421T213721Z
CREATED:20150311T145459Z
DESCRIPTION:Concerto: Pandeiromius\, presentando o seu terceiro álbum\, Teñ
 o días
DTSTART;TZID=Europe/Madrid:20150312T000000
DTEND;TZID=Europe/Madrid:20150312T000000
LAST-MODIFIED:20150311T155056Z
SUMMARY:Lubicán 2015
URL;TYPE=URI:https://concellodelugo.gal/gl/eventos/lubican-2015-0
END:VEVENT
BEGIN:VEVENT
UID:calendar.47602.field_fechas_inicio_fin.0@concellodelugo.gal
DTSTAMP:20260421T213721Z
CREATED:20150304T092509Z
DESCRIPTION:Espectáculo: El Intérprete\, Asier Etxeandía\, Guillermo Gonzál
 ez\, Tao Gutiérrez\, Enrico Barbaro
DTSTART;TZID=Europe/Madrid:20150306T000000
DTEND;TZID=Europe/Madrid:20150306T000000
LAST-MODIFIED:20150304T093238Z
SUMMARY:Musical no Auditorio Municipal
URL;TYPE=URI:https://concellodelugo.gal/gl/eventos/musical-no-auditorio-mun
 icipal
END:VEVENT
BEGIN:VEVENT
UID:calendar.47581.field_fechas_inicio_fin.0@concellodelugo.gal
DTSTAMP:20260421T213721Z
CREATED:20150303T164140Z
DESCRIPTION:Concerto: Quinteto Ricercata: Lope Morales\, frauta - Carlos Qu
 iñonero\, óboe - Saulo Guerra\, clarinete - Maria Rosário Martínez\, fagot
  - Pablo Fernández\, trompa
DTSTART;TZID=Europe/Madrid:20150303T000000
DTEND;TZID=Europe/Madrid:20150303T000000
LAST-MODIFIED:20150303T164951Z
SUMMARY:Músicas a carón da Mosqueira
URL;TYPE=URI:https://concellodelugo.gal/gl/eventos/musicas-caron-da-mosquei
 ra
END:VEVENT
BEGIN:VEVENT
UID:calendar.47420.field_fechas_inicio_fin.0@concellodelugo.gal
DTSTAMP:20260421T213721Z
CREATED:20150226T103227Z
DESCRIPTION:Lubicán 2015 - Concerto: Emilio Rúa presentando o seu quinto tr
 aballo discográfico\, Destino Sur
DTSTART;TZID=Europe/Madrid:20150227T000000
DTEND;TZID=Europe/Madrid:20150227T000000
LAST-MODIFIED:20150226T152439Z
SUMMARY:Lubicán 2015
URL;TYPE=URI:https://concellodelugo.gal/gl/eventos/lubican-2015
END:VEVENT
END:VCALENDAR
