BEGIN:VCALENDAR
VERSION:2.0
PRODID:-//Date iCal v3.3//NONSGML kigkonsult.se iCalcreator 2.20.2//
METHOD:PUBLISH
X-WR-CALNAME;VALUE=TEXT:Eventos Lugo
BEGIN:VTIMEZONE
TZID:Europe/Madrid
BEGIN:STANDARD
DTSTART:20141026T030000
TZOFFSETFROM:+0200
TZOFFSETTO:+0100
RDATE:20151025T030000
TZNAME:CET
END:STANDARD
BEGIN:DAYLIGHT
DTSTART:20150329T020000
TZOFFSETFROM:+0100
TZOFFSETTO:+0200
RDATE:20160327T020000
TZNAME:CEST
END:DAYLIGHT
END:VTIMEZONE
BEGIN:VEVENT
UID:calendar.53602.field_fechas_inicio_fin.0@concellodelugo.gal
DTSTAMP:20260421T213730Z
CREATED:20151002T122604Z
DESCRIPTION:Festas de Interese Turístico Galego e Nacional
DTSTART;TZID=Europe/Madrid:20151002T000000
DTEND;TZID=Europe/Madrid:20151012T000000
LAST-MODIFIED:20151007T103507Z
SUMMARY:San Froilán 2015
URL;TYPE=URI:https://concellodelugo.gal/gl/eventos/san-froilan-2015
END:VEVENT
BEGIN:VEVENT
UID:calendar.48632.field_fechas_inicio_fin.0@concellodelugo.gal
DTSTAMP:20260421T213730Z
CREATED:20150330T115950Z
DTSTART;TZID=Europe/Madrid:20150405T000000
DTEND;TZID=Europe/Madrid:20150405T000000
LAST-MODIFIED:20150330T115950Z
SUMMARY:Solemne Misa Pontificial de Resurrección e Procesión do Cristo Resu
 citado
URL;TYPE=URI:https://concellodelugo.gal/gl/eventos/solemne-misa-pontificial
 -de-resurreccion-e-procesion-do-cristo-resucitado
END:VEVENT
BEGIN:VEVENT
UID:calendar.48626.field_fechas_inicio_fin.0@concellodelugo.gal
DTSTAMP:20260421T213730Z
CREATED:20150330T115437Z
DTSTART;TZID=Europe/Madrid:20150405T000000
DTEND;TZID=Europe/Madrid:20150405T000000
LAST-MODIFIED:20150330T115437Z
SUMMARY:Procesión do Santo Encontro
URL;TYPE=URI:https://concellodelugo.gal/gl/eventos/procesion-do-santo-encon
 tro
END:VEVENT
BEGIN:VEVENT
UID:calendar.48616.field_fechas_inicio_fin.0@concellodelugo.gal
DTSTAMP:20260421T213730Z
CREATED:20150330T110904Z
DTSTART;TZID=Europe/Madrid:20150404T000000
DTEND;TZID=Europe/Madrid:20150404T000000
LAST-MODIFIED:20150330T113305Z
SUMMARY:Procesión Penitencial da Virxe da Piedade\, Santo Rosario e Vía Cru
 cis
URL;TYPE=URI:https://concellodelugo.gal/gl/eventos/procesion-penitencial-da
 -virxe-da-piedade-santo-rosario-e-crucis
END:VEVENT
BEGIN:VEVENT
UID:calendar.48608.field_fechas_inicio_fin.0@concellodelugo.gal
DTSTAMP:20260421T213730Z
CREATED:20150330T105447Z
DTSTART;TZID=Europe/Madrid:20150403T000000
DTEND;TZID=Europe/Madrid:20150403T000000
LAST-MODIFIED:20150330T113756Z
SUMMARY:Procesión da Virxe da Soidade 'As Caladiñas'
URL;TYPE=URI:https://concellodelugo.gal/gl/eventos/procesion-da-virxe-da-so
 idade-caladinas
END:VEVENT
BEGIN:VEVENT
UID:calendar.48604.field_fechas_inicio_fin.0@concellodelugo.gal
DTSTAMP:20260421T213730Z
CREATED:20150330T104117Z
DTSTART;TZID=Europe/Madrid:20150403T000000
DTEND;TZID=Europe/Madrid:20150403T000000
LAST-MODIFIED:20150330T113057Z
SUMMARY:Procesión do Santo Enterro
URL;TYPE=URI:https://concellodelugo.gal/gl/eventos/procesion-do-santo-enter
 ro
END:VEVENT
BEGIN:VEVENT
UID:calendar.48598.field_fechas_inicio_fin.0@concellodelugo.gal
DTSTAMP:20260421T213730Z
CREATED:20150330T103712Z
DTSTART;TZID=Europe/Madrid:20150403T000000
DTEND;TZID=Europe/Madrid:20150403T000000
LAST-MODIFIED:20150330T111905Z
SUMMARY:Acto do Desencravo do Señor
URL;TYPE=URI:https://concellodelugo.gal/gl/eventos/acto-do-desencravo-do-se
 nor
END:VEVENT
BEGIN:VEVENT
UID:calendar.48592.field_fechas_inicio_fin.0@concellodelugo.gal
DTSTAMP:20260421T213730Z
CREATED:20150330T103142Z
DTSTART;TZID=Europe/Madrid:20150402T000000
DTEND;TZID=Europe/Madrid:20150402T000000
LAST-MODIFIED:20150330T111751Z
SUMMARY:Procesión da Santa Cea
URL;TYPE=URI:https://concellodelugo.gal/gl/eventos/procesion-da-santa-cea
END:VEVENT
BEGIN:VEVENT
UID:calendar.48583.field_fechas_inicio_fin.0@concellodelugo.gal
DTSTAMP:20260421T213730Z
CREATED:20150330T102604Z
DTSTART;TZID=Europe/Madrid:20150401T000000
DTEND;TZID=Europe/Madrid:20150401T000000
LAST-MODIFIED:20150330T111610Z
SUMMARY:Procesión do Cristo do Perdón e da Virxe da Piedade - Vía Crucis Pe
 nitencial
URL;TYPE=URI:https://concellodelugo.gal/gl/eventos/procesion-do-cristo-do-p
 erdon-e-da-virxe-da-piedade-crucis-penitencial
END:VEVENT
BEGIN:VEVENT
UID:calendar.48571.field_fechas_inicio_fin.0@concellodelugo.gal
DTSTAMP:20260421T213730Z
CREATED:20150330T100230Z
DTSTART;TZID=Europe/Madrid:20150331T000000
DTEND;TZID=Europe/Madrid:20150331T000000
LAST-MODIFIED:20150330T111356Z
SUMMARY:Procesión do Buen Jesús e do Nazareno
URL;TYPE=URI:https://concellodelugo.gal/gl/eventos/procesion-do-buen-jesus-
 e-do-nazareno
END:VEVENT
END:VCALENDAR
